Package: MSPrep Version: 1.17.0 Command: /home/biocbuild/R/R/bin/R CMD INSTALL MSPrep StartedAt: 2025-01-29 20:31:30 -0000 (Wed, 29 Jan 2025) EndedAt: 2025-01-29 20:32:15 -0000 (Wed, 29 Jan 2025) EllapsedTime: 44.4 seconds RetCode: 0 Status: OK