Package: MSPrep Version: 1.17.0 Command: rm -rf MSPrep.buildbin-libdir && mkdir MSPrep.buildbin-libdir && /Users/biocbuild/BBS/utils/build-universal.sh MSPrep_1.17.0.tar.gz /Library/Frameworks/R.framework/Resources/bin/R MSPrep.buildbin-libdir StartedAt: 2025-02-10 01:04:38 -0500 (Mon, 10 Feb 2025) EndedAt: 2025-02-10 01:05:27 -0500 (Mon, 10 Feb 2025) EllapsedTime: 48.5 seconds RetCode: 0 Status: OK PackageFile: MSPrep_1.17.0.tgz PackageFileSize: 1.636 MiB