Package: MSPrep Version: 1.17.0 Command: /Library/Frameworks/R.framework/Resources/bin/R CMD check --install=check:MSPrep.install-out.txt --library=/Library/Frameworks/R.framework/Resources/library --no-vignettes --timings MSPrep_1.17.0.tar.gz StartedAt: 2025-02-09 22:10:10 -0500 (Sun, 09 Feb 2025) EndedAt: 2025-02-09 22:18:29 -0500 (Sun, 09 Feb 2025) EllapsedTime: 498.9 seconds RetCode: 0 Status: OK CheckDir: MSPrep.Rcheck Warnings: 0