Package: MSPrep Version: 1.17.0 Command: /Library/Frameworks/R.framework/Resources/bin/R CMD INSTALL MSPrep StartedAt: 2025-02-09 15:41:59 -0500 (Sun, 09 Feb 2025) EndedAt: 2025-02-09 15:42:45 -0500 (Sun, 09 Feb 2025) EllapsedTime: 46.6 seconds RetCode: 0 Status: OK