Package: MSPrep Version: 1.17.0 Command: /home/biocbuild/bbs-3.21-bioc/R/bin/R CMD build --keep-empty-dirs --no-resave-data MSPrep StartedAt: 2025-02-09 18:18:36 -0500 (Sun, 09 Feb 2025) EndedAt: 2025-02-09 18:20:48 -0500 (Sun, 09 Feb 2025) EllapsedTime: 132.1 seconds RetCode: 0 Status: OK PackageFile: MSPrep_1.17.0.tar.gz PackageFileSize: 1.574 MiB