Package: MSPrep Version: 1.17.0 Command: /home/biocbuild/bbs-3.21-bioc/R/bin/R CMD check --install=check:MSPrep.install-out.txt --library=/home/biocbuild/bbs-3.21-bioc/R/site-library --timings MSPrep_1.17.0.tar.gz StartedAt: 2025-02-13 00:32:39 -0500 (Thu, 13 Feb 2025) EndedAt: 2025-02-13 00:42:04 -0500 (Thu, 13 Feb 2025) EllapsedTime: 565.7 seconds RetCode: 0 Status: OK CheckDir: MSPrep.Rcheck Warnings: 0