Package: MSPrep Version: 1.17.0 Command: /home/biocbuild/bbs-3.21-bioc/R/bin/R CMD INSTALL MSPrep StartedAt: 2025-02-12 15:57:45 -0500 (Wed, 12 Feb 2025) EndedAt: 2025-02-12 15:58:18 -0500 (Wed, 12 Feb 2025) EllapsedTime: 33.2 seconds RetCode: 0 Status: OK