Package: MSPrep Version: 1.17.0 Command: rm -rf MSPrep.buildbin-libdir && mkdir MSPrep.buildbin-libdir && E:\biocbuild\bbs-3.21-bioc\R\bin\R.exe CMD INSTALL --build --library=MSPrep.buildbin-libdir MSPrep_1.17.0.tar.gz StartedAt: 2025-02-10 08:13:52 -0500 (Mon, 10 Feb 2025) EndedAt: 2025-02-10 08:14:40 -0500 (Mon, 10 Feb 2025) EllapsedTime: 47.6 seconds RetCode: 0 Status: OK PackageFile: MSPrep_1.17.0.zip PackageFileSize: 1.64 MiB