Package: MSPrep Version: 1.17.0 Command: chmod a+r MSPrep -R && E:\biocbuild\bbs-3.21-bioc\R\bin\R.exe CMD build --keep-empty-dirs --no-resave-data MSPrep StartedAt: 2025-02-09 20:08:45 -0500 (Sun, 09 Feb 2025) EndedAt: 2025-02-09 20:11:17 -0500 (Sun, 09 Feb 2025) EllapsedTime: 151.3 seconds RetCode: 0 Status: OK PackageFile: MSPrep_1.17.0.tar.gz PackageFileSize: 1.574 MiB