Package: MSPrep Version: 1.17.0 Command: E:\biocbuild\bbs-3.21-bioc\R\bin\R.exe CMD check --no-multiarch --install=check:MSPrep.install-out.txt --library=E:\biocbuild\bbs-3.21-bioc\R\library --no-vignettes --timings MSPrep_1.17.0.tar.gz StartedAt: 2025-02-10 03:20:17 -0500 (Mon, 10 Feb 2025) EndedAt: 2025-02-10 03:29:02 -0500 (Mon, 10 Feb 2025) EllapsedTime: 524.8 seconds RetCode: 0 Status: OK CheckDir: MSPrep.Rcheck Warnings: 0