Package: MSnID Version: 1.41.0 Command: /Library/Frameworks/R.framework/Resources/bin/R CMD build --keep-empty-dirs --no-resave-data MSnID StartedAt: 2025-02-09 17:37:30 -0500 (Sun, 09 Feb 2025) EndedAt: 2025-02-09 17:40:24 -0500 (Sun, 09 Feb 2025) EllapsedTime: 174.5 seconds RetCode: 0 Status: OK PackageFile: MSnID_1.41.0.tar.gz PackageFileSize: 3.003 MiB