Package: MSnID Version: 1.41.0 Command: /Library/Frameworks/R.framework/Resources/bin/R CMD check --install=check:MSnID.install-out.txt --library=/Library/Frameworks/R.framework/Resources/library --no-vignettes --timings MSnID_1.41.0.tar.gz StartedAt: 2025-02-09 22:09:53 -0500 (Sun, 09 Feb 2025) EndedAt: 2025-02-09 22:17:26 -0500 (Sun, 09 Feb 2025) EllapsedTime: 453.2 seconds RetCode: 0 Status: OK CheckDir: MSnID.Rcheck Warnings: 0