Package: MSnID Version: 1.41.0 Command: /Library/Frameworks/R.framework/Resources/bin/R CMD INSTALL MSnID StartedAt: 2025-02-04 15:31:45 -0500 (Tue, 04 Feb 2025) EndedAt: 2025-02-04 15:32:42 -0500 (Tue, 04 Feb 2025) EllapsedTime: 56.9 seconds RetCode: 0 Status: OK