Package: MSnID Version: 1.41.0 Command: /home/biocbuild/bbs-3.21-bioc/R/bin/R CMD build --keep-empty-dirs --no-resave-data MSnID StartedAt: 2025-02-04 18:16:15 -0500 (Tue, 04 Feb 2025) EndedAt: 2025-02-04 18:18:14 -0500 (Tue, 04 Feb 2025) EllapsedTime: 118.1 seconds RetCode: 0 Status: OK PackageFile: MSnID_1.41.0.tar.gz PackageFileSize: 3.003 MiB