Package: MSnID Version: 1.41.0 Command: /home/biocbuild/bbs-3.21-bioc/R/bin/R CMD check --install=check:MSnID.install-out.txt --library=/home/biocbuild/bbs-3.21-bioc/R/site-library --timings MSnID_1.41.0.tar.gz StartedAt: 2025-02-05 00:38:44 -0500 (Wed, 05 Feb 2025) EndedAt: 2025-02-05 00:47:11 -0500 (Wed, 05 Feb 2025) EllapsedTime: 506.7 seconds RetCode: 0 Status: OK CheckDir: MSnID.Rcheck Warnings: 0