Package: MSnID Version: 1.41.0 Command: /home/biocbuild/bbs-3.21-bioc/R/bin/R CMD INSTALL MSnID StartedAt: 2025-02-09 15:37:41 -0500 (Sun, 09 Feb 2025) EndedAt: 2025-02-09 15:38:26 -0500 (Sun, 09 Feb 2025) EllapsedTime: 45.8 seconds RetCode: 0 Status: OK