Package: MSnbase Version: 2.33.2 Command: /Library/Frameworks/R.framework/Resources/bin/R CMD build --keep-empty-dirs --no-resave-data MSnbase StartedAt: 2025-02-09 17:03:26 -0500 (Sun, 09 Feb 2025) EndedAt: 2025-02-09 17:04:43 -0500 (Sun, 09 Feb 2025) EllapsedTime: 76.8 seconds RetCode: 0 Status: OK PackageFile: MSnbase_2.33.2.tar.gz PackageFileSize: 6.112 MiB