Package: MSnbase Version: 2.33.2 Command: /Library/Frameworks/R.framework/Resources/bin/R CMD check --install=check:MSnbase.install-out.txt --library=/Library/Frameworks/R.framework/Resources/library --no-vignettes --timings MSnbase_2.33.2.tar.gz StartedAt: 2025-02-09 20:18:36 -0500 (Sun, 09 Feb 2025) EndedAt: 2025-02-09 20:24:51 -0500 (Sun, 09 Feb 2025) EllapsedTime: 374.7 seconds RetCode: 0 Status: OK CheckDir: MSnbase.Rcheck Warnings: 0