Package: MSnbase Version: 2.33.2 Command: rm -rf MSnbase.buildbin-libdir && mkdir MSnbase.buildbin-libdir && /Users/biocbuild/BBS/utils/build-universal.sh MSnbase_2.33.2.tar.gz /Library/Frameworks/R.framework/Resources/bin/R MSnbase.buildbin-libdir StartedAt: 2025-02-10 01:04:37 -0500 (Mon, 10 Feb 2025) EndedAt: 2025-02-10 01:06:20 -0500 (Mon, 10 Feb 2025) EllapsedTime: 102.9 seconds RetCode: 0 Status: OK PackageFile: MSnbase_2.33.2.tgz PackageFileSize: 8.911 MiB