Package: MSnbase Version: 2.33.2 Command: /Library/Frameworks/R.framework/Resources/bin/R CMD build --keep-empty-dirs --no-resave-data MSnbase StartedAt: 2025-02-09 17:37:29 -0500 (Sun, 09 Feb 2025) EndedAt: 2025-02-09 17:41:53 -0500 (Sun, 09 Feb 2025) EllapsedTime: 264.7 seconds RetCode: 0 Status: OK PackageFile: MSnbase_2.33.2.tar.gz PackageFileSize: 6.109 MiB