Package: MSnbase Version: 2.33.2 Command: /home/biocbuild/bbs-3.21-bioc/R/bin/R CMD build --keep-empty-dirs --no-resave-data MSnbase StartedAt: 2025-02-09 18:18:24 -0500 (Sun, 09 Feb 2025) EndedAt: 2025-02-09 18:21:24 -0500 (Sun, 09 Feb 2025) EllapsedTime: 180.2 seconds RetCode: 0 Status: OK PackageFile: MSnbase_2.33.2.tar.gz PackageFileSize: 6.241 MiB