Package: MSnbase Version: 2.33.2 Command: /home/biocbuild/bbs-3.21-bioc/R/bin/R CMD check --install=check:MSnbase.install-out.txt --library=/home/biocbuild/bbs-3.21-bioc/R/site-library --timings MSnbase_2.33.2.tar.gz StartedAt: 2025-02-13 00:32:09 -0500 (Thu, 13 Feb 2025) EndedAt: 2025-02-13 00:50:14 -0500 (Thu, 13 Feb 2025) EllapsedTime: 1085.6 seconds RetCode: 1 Status: ERROR CheckDir: MSnbase.Rcheck Warnings: NA