Package: MSnbase Version: 2.33.2 Command: /home/biocbuild/bbs-3.21-bioc/R/bin/R CMD INSTALL MSnbase StartedAt: 2025-02-09 15:34:43 -0500 (Sun, 09 Feb 2025) EndedAt: 2025-02-09 15:35:54 -0500 (Sun, 09 Feb 2025) EllapsedTime: 71.0 seconds RetCode: 0 Status: OK