Package: MSstats Version: 4.15.1 Maintainer: Meena Choi MaintainerEmail: mnchoi67 at gmail.com git_url: https://git.bioconductor.org/packages/MSstats git_branch: devel git_last_commit: 88489fe git_last_commit_date: 2025-01-08 19:14:01 -0500 (Wed, 08 Jan 2025)