Package: MSstats Version: 4.15.1 Command: /Library/Frameworks/R.framework/Resources/bin/R CMD build --keep-empty-dirs --no-resave-data MSstats StartedAt: 2025-02-03 17:40:01 -0500 (Mon, 03 Feb 2025) EndedAt: 2025-02-03 17:40:27 -0500 (Mon, 03 Feb 2025) EllapsedTime: 25.2 seconds RetCode: 0 Status: OK PackageFile: MSstats_4.15.1.tar.gz PackageFileSize: 468.2 KiB