Package: MSstats Version: 4.15.1 Command: /Library/Frameworks/R.framework/Resources/bin/R CMD check --install=check:MSstats.install-out.txt --library=/Library/Frameworks/R.framework/Resources/library --no-vignettes --timings MSstats_4.15.1.tar.gz StartedAt: 2025-02-03 20:55:57 -0500 (Mon, 03 Feb 2025) EndedAt: 2025-02-03 20:56:44 -0500 (Mon, 03 Feb 2025) EllapsedTime: 46.6 seconds RetCode: 0 Status: WARNINGS CheckDir: MSstats.Rcheck Warnings: 2