Package: MSstats Version: 4.15.1 Command: /home/biocbuild/R/R/bin/R CMD check --install=check:MSstats.install-out.txt --library=/home/biocbuild/R/R/site-library --no-vignettes --timings MSstats_4.15.1.tar.gz StartedAt: 2025-01-28 12:57:52 -0000 (Tue, 28 Jan 2025) EndedAt: 2025-01-28 13:00:50 -0000 (Tue, 28 Jan 2025) EllapsedTime: 178.3 seconds RetCode: 0 Status: WARNINGS CheckDir: MSstats.Rcheck Warnings: 1