Package: MSstats Version: 4.15.1 Command: /Library/Frameworks/R.framework/Resources/bin/R CMD check --install=check:MSstats.install-out.txt --library=/Library/Frameworks/R.framework/Resources/library --no-vignettes --timings MSstats_4.15.1.tar.gz StartedAt: 2025-02-09 22:10:22 -0500 (Sun, 09 Feb 2025) EndedAt: 2025-02-09 22:12:49 -0500 (Sun, 09 Feb 2025) EllapsedTime: 147.0 seconds RetCode: 0 Status: WARNINGS CheckDir: MSstats.Rcheck Warnings: 1