Package: MSstats Version: 4.15.1 Command: /Library/Frameworks/R.framework/Resources/bin/R CMD INSTALL MSstats StartedAt: 2025-02-09 15:32:40 -0500 (Sun, 09 Feb 2025) EndedAt: 2025-02-09 15:33:29 -0500 (Sun, 09 Feb 2025) EllapsedTime: 48.9 seconds RetCode: 0 Status: OK