Package: MSstats Version: 4.15.1 Command: /home/biocbuild/bbs-3.21-bioc/R/bin/R CMD build --keep-empty-dirs --no-resave-data MSstats StartedAt: 2025-02-03 18:28:31 -0500 (Mon, 03 Feb 2025) EndedAt: 2025-02-03 18:29:38 -0500 (Mon, 03 Feb 2025) EllapsedTime: 67.1 seconds RetCode: 0 Status: OK PackageFile: MSstats_4.15.1.tar.gz PackageFileSize: 422.9 KiB