Package: MSstats Version: 4.15.1 Command: /home/biocbuild/bbs-3.21-bioc/R/bin/R CMD check --install=check:MSstats.install-out.txt --library=/home/biocbuild/bbs-3.21-bioc/R/site-library --timings MSstats_4.15.1.tar.gz StartedAt: 2025-02-04 00:40:54 -0500 (Tue, 04 Feb 2025) EndedAt: 2025-02-04 00:42:39 -0500 (Tue, 04 Feb 2025) EllapsedTime: 105.1 seconds RetCode: 1 Status: ERROR CheckDir: MSstats.Rcheck Warnings: NA