Package: MSstats Version: 4.15.1 Command: /home/biocbuild/bbs-3.21-bioc/R/bin/R CMD INSTALL MSstats StartedAt: 2025-02-03 15:20:35 -0500 (Mon, 03 Feb 2025) EndedAt: 2025-02-03 15:21:17 -0500 (Mon, 03 Feb 2025) EllapsedTime: 42.4 seconds RetCode: 0 Status: OK