Package: MSstats Version: 4.15.1 Command: rm -rf MSstats.buildbin-libdir && mkdir MSstats.buildbin-libdir && E:\biocbuild\bbs-3.21-bioc\R\bin\R.exe CMD INSTALL --build --library=MSstats.buildbin-libdir MSstats_4.15.1.tar.gz StartedAt: 2025-02-04 08:27:15 -0500 (Tue, 04 Feb 2025) EndedAt: 2025-02-04 08:28:54 -0500 (Tue, 04 Feb 2025) EllapsedTime: 99.5 seconds RetCode: 0 Status: OK PackageFile: MSstats_4.15.1.zip PackageFileSize: 1.099 MiB