Package: MSstats Version: 4.15.1 Command: chmod a+r MSstats -R && E:\biocbuild\bbs-3.21-bioc\R\bin\R.exe CMD build --keep-empty-dirs --no-resave-data MSstats StartedAt: 2025-02-03 20:22:15 -0500 (Mon, 03 Feb 2025) EndedAt: 2025-02-03 20:25:20 -0500 (Mon, 03 Feb 2025) EllapsedTime: 184.5 seconds RetCode: 0 Status: OK PackageFile: MSstats_4.15.1.tar.gz PackageFileSize: 270.1 KiB