Package: MSstats Version: 4.15.1 Command: E:\biocbuild\bbs-3.21-bioc\R\bin\R.exe CMD INSTALL MSstats StartedAt: 2025-02-09 15:57:19 -0500 (Sun, 09 Feb 2025) EndedAt: 2025-02-09 15:59:12 -0500 (Sun, 09 Feb 2025) EllapsedTime: 112.5 seconds RetCode: 0 Status: OK