Package: MSstatsBig Version: 1.5.0 Command: rm -rf MSstatsBig.buildbin-libdir && mkdir MSstatsBig.buildbin-libdir && /Users/biocbuild/BBS/utils/build-universal.sh MSstatsBig_1.5.0.tar.gz /Library/Frameworks/R.framework/Resources/bin/R MSstatsBig.buildbin-libdir StartedAt: 2025-02-04 22:24:29 -0500 (Tue, 04 Feb 2025) EndedAt: 2025-02-04 22:24:34 -0500 (Tue, 04 Feb 2025) EllapsedTime: 5.1 seconds RetCode: 0 Status: OK PackageFile: MSstatsBig_1.5.0.tgz PackageFileSize: 95.49 KiB