Package: MSstatsBig Version: 1.5.0 Command: /Library/Frameworks/R.framework/Resources/bin/R CMD build --keep-empty-dirs --no-resave-data MSstatsBig StartedAt: 2025-02-04 17:04:23 -0500 (Tue, 04 Feb 2025) EndedAt: 2025-02-04 17:04:31 -0500 (Tue, 04 Feb 2025) EllapsedTime: 8.1 seconds RetCode: 0 Status: OK PackageFile: MSstatsBig_1.5.0.tar.gz PackageFileSize: 70.11 KiB