Package: MSstatsBig Version: 1.5.0 Command: /Library/Frameworks/R.framework/Resources/bin/R CMD INSTALL MSstatsBig StartedAt: 2025-02-04 15:20:41 -0500 (Tue, 04 Feb 2025) EndedAt: 2025-02-04 15:20:45 -0500 (Tue, 04 Feb 2025) EllapsedTime: 4.4 seconds RetCode: 0 Status: OK