Package: MSstatsBig Version: 1.5.0 Command: /home/biocbuild/R/R/bin/R CMD build --keep-empty-dirs --no-resave-data MSstatsBig StartedAt: 2025-01-29 00:42:13 -0000 (Wed, 29 Jan 2025) EndedAt: 2025-01-29 00:42:35 -0000 (Wed, 29 Jan 2025) EllapsedTime: 22.0 seconds RetCode: 0 Status: OK PackageFile: MSstatsBig_1.5.0.tar.gz PackageFileSize: 70.96 KiB