Package: MSstatsBig Version: 1.5.0 Command: rm -rf MSstatsBig.buildbin-libdir && mkdir MSstatsBig.buildbin-libdir && /Users/biocbuild/BBS/utils/build-universal.sh MSstatsBig_1.5.0.tar.gz /Library/Frameworks/R.framework/Resources/bin/R MSstatsBig.buildbin-libdir StartedAt: 2025-02-05 00:50:56 -0500 (Wed, 05 Feb 2025) EndedAt: 2025-02-05 00:51:12 -0500 (Wed, 05 Feb 2025) EllapsedTime: 16.2 seconds RetCode: 0 Status: OK PackageFile: MSstatsBig_1.5.0.tgz PackageFileSize: 95.1 KiB