Package: MSstatsBig Version: 1.5.0 Command: /Library/Frameworks/R.framework/Resources/bin/R CMD INSTALL MSstatsBig StartedAt: 2025-02-04 15:32:35 -0500 (Tue, 04 Feb 2025) EndedAt: 2025-02-04 15:32:48 -0500 (Tue, 04 Feb 2025) EllapsedTime: 13.5 seconds RetCode: 0 Status: OK