Package: MSstatsBig Version: 1.5.0 Command: /home/biocbuild/bbs-3.21-bioc/R/bin/R CMD build --keep-empty-dirs --no-resave-data MSstatsBig StartedAt: 2025-02-04 18:17:22 -0500 (Tue, 04 Feb 2025) EndedAt: 2025-02-04 18:17:38 -0500 (Tue, 04 Feb 2025) EllapsedTime: 16.0 seconds RetCode: 0 Status: OK PackageFile: MSstatsBig_1.5.0.tar.gz PackageFileSize: 70.36 KiB