Package: MSstatsBig Version: 1.5.0 Command: /home/biocbuild/bbs-3.21-bioc/R/bin/R CMD check --install=check:MSstatsBig.install-out.txt --library=/home/biocbuild/bbs-3.21-bioc/R/site-library --timings MSstatsBig_1.5.0.tar.gz StartedAt: 2025-02-05 00:41:09 -0500 (Wed, 05 Feb 2025) EndedAt: 2025-02-05 00:42:26 -0500 (Wed, 05 Feb 2025) EllapsedTime: 77.1 seconds RetCode: 0 Status: OK CheckDir: MSstatsBig.Rcheck Warnings: 0