Package: MSstatsBig Version: 1.5.0 Command: /home/biocbuild/bbs-3.21-bioc/R/bin/R CMD INSTALL MSstatsBig StartedAt: 2025-02-04 15:10:53 -0500 (Tue, 04 Feb 2025) EndedAt: 2025-02-04 15:11:03 -0500 (Tue, 04 Feb 2025) EllapsedTime: 10.7 seconds RetCode: 0 Status: OK