Package: MSstatsBig Version: 1.5.0 Command: rm -rf MSstatsBig.buildbin-libdir && mkdir MSstatsBig.buildbin-libdir && E:\biocbuild\bbs-3.21-bioc\R\bin\R.exe CMD INSTALL --build --library=MSstatsBig.buildbin-libdir MSstatsBig_1.5.0.tar.gz StartedAt: 2025-02-05 08:25:45 -0500 (Wed, 05 Feb 2025) EndedAt: 2025-02-05 08:26:10 -0500 (Wed, 05 Feb 2025) EllapsedTime: 24.7 seconds RetCode: 0 Status: OK PackageFile: MSstatsBig_1.5.0.zip PackageFileSize: 98.29 KiB