Package: MSstatsBig Version: 1.5.0 Command: chmod a+r MSstatsBig -R && E:\biocbuild\bbs-3.21-bioc\R\bin\R.exe CMD build --keep-empty-dirs --no-resave-data MSstatsBig StartedAt: 2025-02-04 20:12:27 -0500 (Tue, 04 Feb 2025) EndedAt: 2025-02-04 20:13:10 -0500 (Tue, 04 Feb 2025) EllapsedTime: 42.7 seconds RetCode: 0 Status: OK PackageFile: MSstatsBig_1.5.0.tar.gz PackageFileSize: 70.36 KiB