Package: MSstatsBig Version: 1.5.0 Command: E:\biocbuild\bbs-3.21-bioc\R\bin\R.exe CMD check --no-multiarch --install=check:MSstatsBig.install-out.txt --library=E:\biocbuild\bbs-3.21-bioc\R\library --no-vignettes --timings MSstatsBig_1.5.0.tar.gz StartedAt: 2025-02-05 03:47:30 -0500 (Wed, 05 Feb 2025) EndedAt: 2025-02-05 03:49:00 -0500 (Wed, 05 Feb 2025) EllapsedTime: 89.9 seconds RetCode: 0 Status: OK CheckDir: MSstatsBig.Rcheck Warnings: 0