Package: MSstatsConvert Version: 1.17.1 Command: /home/biocbuild/R/R/bin/R CMD build --keep-empty-dirs --no-resave-data MSstatsConvert StartedAt: 2025-01-29 00:42:29 -0000 (Wed, 29 Jan 2025) EndedAt: 2025-01-29 00:42:39 -0000 (Wed, 29 Jan 2025) EllapsedTime: 10.0 seconds RetCode: 0 Status: OK PackageFile: MSstatsConvert_1.17.1.tar.gz PackageFileSize: 1.803 MiB