Package: MSstatsConvert Version: 1.17.1 Command: rm -rf MSstatsConvert.buildbin-libdir && mkdir MSstatsConvert.buildbin-libdir && /Users/biocbuild/BBS/utils/build-universal.sh MSstatsConvert_1.17.1.tar.gz /Library/Frameworks/R.framework/Resources/bin/R MSstatsConvert.buildbin-libdir StartedAt: 2025-02-10 01:04:45 -0500 (Mon, 10 Feb 2025) EndedAt: 2025-02-10 01:04:56 -0500 (Mon, 10 Feb 2025) EllapsedTime: 10.4 seconds RetCode: 0 Status: OK PackageFile: MSstatsConvert_1.17.1.tgz PackageFileSize: 2.101 MiB