Package: MSstatsConvert Version: 1.17.1 Command: /Library/Frameworks/R.framework/Resources/bin/R CMD check --install=check:MSstatsConvert.install-out.txt --library=/Library/Frameworks/R.framework/Resources/library --no-vignettes --timings MSstatsConvert_1.17.1.tar.gz StartedAt: 2025-02-09 22:10:57 -0500 (Sun, 09 Feb 2025) EndedAt: 2025-02-09 22:11:45 -0500 (Sun, 09 Feb 2025) EllapsedTime: 48.2 seconds RetCode: 0 Status: WARNINGS CheckDir: MSstatsConvert.Rcheck Warnings: 3